BEGIN:VCALENDAR
VERSION:2.0
PRODID:-//Library Market//iCal Export//EN
BEGIN:VEVENT
SUMMARY:Free Life Skills Workshop
UID:27907
DTSTAMP:20260421T082400Z
DTSTART:20260414T230000Z
DTEND:20260415T003000Z
LOCATION:707 Quay St., Manitowoc, WI 54220, United States
ROOM: Board Room
DESCRIPTION:Join Rogers Behavioral Health for a transformative series of f
 ree, monthly life skills workshops. Open to everyone in the community, you
 &#039;ll gain valuable life skills in a supportive, non-clinical environme
 nt.
URL:https://www.manitowoclibrary.org/event/free-life-skills-workshop-27907
END:VEVENT
END:VCALENDAR
