BEGIN:VCALENDAR
VERSION:2.0
PRODID:-//Library Market//iCal Export//EN
BEGIN:VEVENT
SUMMARY:Unplugging Your Kids
UID:30017
DTSTAMP:20260420T103800Z
DTSTART:20260924T230000Z
DTEND:20260925T000000Z
LOCATION:707 Quay St., Manitowoc, WI 54220, United States
ROOM: Balkansky Community Room ABC
DESCRIPTION:Today&#039;s kids are digital natives, often glued to their de
 vices. How can parents cope with this new reality and help kids maintain h
 ealthy digital habits? Join pediatrician Dr. Robert Greene from Froedtert/
 MCW for some insight and advice into tackling this timely and sticky topic
 . 
URL:https://www.manitowoclibrary.org/event/unplugging-your-kids-30017
END:VEVENT
END:VCALENDAR
