BEGIN:VCALENDAR
VERSION:2.0
PRODID:-//Library Market//iCal Export//EN
BEGIN:VEVENT
SUMMARY:Glowforge Badging Session
UID:30287
DTSTAMP:20260424T155300Z
DTSTART:20260612T190000Z
DTEND:20260612T203000Z
LOCATION:707 Quay St., Manitowoc, WI 54220, United States
ROOM: Idea Box
DESCRIPTION:Join us in the Idea Box for a demonstration of our Glowforge. 
 The Glowforge uses a laser to engrave designs into different material type
 s like acrylic and wood. Library Staff will show you how to use our Glowfo
 rge and upon completion of the training you&#039;ll be &quot;Badged&quot; 
 so you can use the Glowforge at your leisure.Space is limited and registra
 tion is required. Registration opens June 3rd at 9AM. You must be 18 or ol
 der to participate in this program. If registration is full, don&#039;t wo
 rry. We&#039;ll have more training sessions throughout the year.
URL:https://www.manitowoclibrary.org/event/glowforge-badging-session-30287
END:VEVENT
END:VCALENDAR
