BEGIN:VCALENDAR
VERSION:2.0
PRODID:-//Library Market//iCal Export//EN
BEGIN:VEVENT
SUMMARY:Friends of the Library Brat Fry Fundraiser
UID:30471
DTSTAMP:20260421T082400Z
DTSTART:20260501T160000Z
DTEND:20260501T230000Z
LOCATION:Festival Foods, 2151 S 42nd St, Manitowoc, WI 54220, United State
 s
ROOM: Friends of the Library Brat Fry Fundraiser
DESCRIPTION:Support the Friends of Manitowoc Public Library by stopping by
  for a brat fry at Festival Foods in Manitowoc!Proceeds help fund the Summ
 er Reading Program.
URL:https://www.manitowoclibrary.org/event/friends-library-brat-fry-fundra
 iser-30471
END:VEVENT
END:VCALENDAR
