BEGIN:VCALENDAR
VERSION:2.0
PRODID:-//Library Market//iCal Export//EN
BEGIN:VEVENT
SUMMARY:MPL Insider: Beyond the Books with Tim &amp; Emily
UID:30535
DTSTAMP:20260420T103800Z
DTSTART:20260423T170000Z
DTEND:20260423T180000Z
LOCATION:
DESCRIPTION:THEY&#039;RE BAAACK!!!Â For One Special Episode at any rate.Â 
 Tim &amp; EmilyÂ are returning to the infoweb airwaves with MPL Insider: B
 eyond the Books on Thursday,Â May 23, at 12 PM for the sole purpose of dem
 onstrating that turnabout is fair play!Â You see, one of MPLâ€™s amazing c
 ommunity partnersâ€”Seehafer Broadcastingâ€”has a special exhibition on-di
 splay at the Library from April 20 through May 30: WOMT 100â€”A Century of
  Live Local Radio in Manitowoc! Tim and Emily figured that since Seehafer 
 is always very generous with providing an array of support to spread the w
 ord about our programming and events that it was only fitting to give them
  some airtime to promote theirs. Steve Kanterâ€”Local Vintage Radio Collec
 torâ€”and Ian Schebelâ€”Seehafer Broadcasting Support Team Specialistâ€”wi
 ll be in-studio to discuss what motivates a collector, as well as providin
 g some insight into the history of WOMTâ€™s 100th Anniversary on-the-air!Â
  We can virtually assure that thisÂ is going to be an amazingÂ return to t
 he internets!Â So, grab aÂ couple Hot Tamales, a bottle of Ting, and get r
 eady for some fun, nonlinear chit-chat! See youÂ at 12 PMÂ onÂ April 23 on
  either MPLâ€™s Facebook page (www.facebook.com/manitowoclibrary) or our Y
 ouTube channel!Â And come with questions at-the-ready! With this subject m
 atter, you&#039;re sure to have one or two!
URL:https://www.manitowoclibrary.org/event/mpl-insider-beyond-books-tim-em
 ily-30535
END:VEVENT
END:VCALENDAR
